{"text_format":"1","workbook":"xlsx","n_sheets":7,"sheets":["NIVEL 1","NIVEL2","NIVEL3","NIVEL4","NIVEL5","NIVEL6","TIEMPO"],"not_rendered":{"charts":0,"images":0,"macros":1,"external_links":0,"defined_names":0,"comments":0,"pivot_tables":0},"unopened":[],"bounds":{"document_bytes":16777216,"sheet_cells":100000,"rows_first":2000,"rows_last":500,"rows_between":2000,"halvings":0,"cell_chars":16384,"cell_head_chars":4096},"cells_cut":0,"cells_raw":0,"read":"whole","date_system":"1900"}

{"sheet":"NIVEL 1","index":0,"n_rows":14,"n_cols":19,"rows_kept":14,"cut":false,"hidden":false,"merged":[[1,16,1,17],[1,10,1,12],[1,13,1,14],[6,13,6,15],[10,10,10,14]]}
[5,"+",5,"+",9,null,6,"=",null,{"$f":"IF(I1=SUM(A1:G1),\"BIEN\",\"\")","v":""},"aciertos",{"$f":"COUNTIF(J1:J25,\"bien\")","v":0},"de 14","hora actual",{"$f":"NOW()","v":40884.811344675923},40884.811343981484]
[7,"+",5,"+",9,"+",6,"=",null,{"$f":"IF(I2=SUM(A2:G2),\"BIEN\",\"\")","v":""},{"$f":"IF(L1=14,\"pasa  al siguiente nivel\",\"\")","v":""},null,null,"tiempo empleado",null,{"$f":"O1-P1","v":"00:00:00.060"},"hoja de tiempo"]
[6,"+",9,"+",2,"+",8,"=",null,"","nivel 1",null,null,"parar"]
[6,"+",9,"+",5,"+",8,"=",null,"",null,null,null,null,68.300034953703289]
[4,"+",6,"+",8,"+",3,"=",null,""]
[10,"+",5,"+",8,"+",5,"=",null,"",null,null,null,null,null,null,null,null,{"$f":"RANDBETWEEN(5,9)","v":9}]
[4,"+",8,"+",10,"+",8,"=",null,"",null,null,null,null,null,null,null,null,{"$f":"RANDBETWEEN(1,10)","v":1}]
[2,"+",6,"+",5,"+",5,"=",null,""]
[2,"+",8,"+",3,"+",6,"=",null,""]
[7,"+",5,"+",3,"+",8,"=",null,""]
[8,"+",5,"+",4,"+",6,"=",null,"","minutos"]
[6,"+",5,"+",8,"+",9,"=",null,""]
[7,"+",8,"+",9,"+",6,"=",null,""]
[6,"+",8,"+",8,"+",9,"=",null,""]

{"sheet":"NIVEL2","index":1,"n_rows":17,"n_cols":22,"rows_kept":17,"cut":false,"hidden":false,"merged":[[1,18,1,20],[0,21,0,22]]}
[8,"+",5,"+",4,"+",4,"+",7,"+",5,"+",4,"+",4,"=",null,{"$f":"IF(Q1=SUM(A1:O1),\"BIEN\",\"\")","v":""},"aciertos",{"$f":"COUNTIF(R1:R25,\"bien\")","v":0},"de 15",{"$f":"'NIVEL 1'!P2","v":"00:00:00.060"}]
[6,"+",3,"+",6,"+",5,"+",6,"+",3,"+",6,"+",5,"=",null,{"$f":"IF(Q2=SUM(A2:O2),\"BIEN\",\"\")","v":""},{"$f":"IF(T1=15,\"pasa  al siguiente nivel\",\"\")","v":""},null,null,"volver"]
[3,"+",8,"+",6,"+",8,"+",3,"+",8,"+",6,"+",8,"=",null,{"$f":"IF(Q3=SUM(A3:O3),\"BIEN\",\"\")","v":""},"nivel 2"]
[7,"+",9,"+",5,"+",4,"+",7,"+",9,"+",5,"+",4,"=",null,""]
[6,"+",5,"+",9,"+",3,"+",6,"+",5,"+",9,"+",3,"=",null,""]
[8,"+",5,"+",7,"+",6,"+",8,"+",5,"+",7,"+",6,"=",null,""]
[6,"+",4,"+",6,"+",8,"+",6,"+",8,"+",6,"+",8,"=",null,""]
[3,"+",6,"+",5,"+",4,"+",3,"+",6,"+",5,"+",4,"=",null,""]
[9,"+",7,"+",7,"+",6,"+",9,"+",7,"+",7,"+",6,"=",null,""]
[6,"+",3,"+",3,"+",9,"+",6,"+",3,"+",3,"+",3,"=",null,""]
[8,"+",6,"+",6,"+",4,"+",8,"+",6,"+",4,"+",4,"=",null,""]
[6,"+",5,"+",5,"+",9,"+",6,"+",5,"+",5,"+",9,"=",null,""]
[7,"+",4,"+",9,"+",8,"+",7,"+",4,"+",9,"+",8,"=",null,""]
[6,"+",5,"+",4,"+",6,"+",6,"+",5,"+",4,"+",6,"=",null,""]
[8,"+",8,"+",6,"+",6,"+",8,"+",6,"+",6,"+",6,"=",null,""]
[]
[null,null,null,null,null,null,null,null,null,null,null,null,null,null,null,null,52]

{"sheet":"NIVEL3","index":2,"n_rows":15,"n_cols":16,"rows_kept":15,"cut":false,"hidden":false,"merged":[[1,10,1,12]]}
[8,"+",12,"+",15,"+",12,"=",null,{"$f":"IF(I1=SUM(A1:G1),\"BIEN\",\"\")","v":""},"aciertos",{"$f":"COUNTIF(J1:J25,\"bien\")","v":0},"de 15"]
[12,"+",9,"+",6,"+",5,"=",null,{"$f":"IF(I2=SUM(A2:G2),\"BIEN\",\"\")","v":""},{"$f":"IF(L1=15,\"pasa  al siguiente nivel\",\"\")","v":""},null,null,{"$f":"'NIVEL 1'!P2","v":"00:00:00.060"},null,"volver"]
[6,"+",8,"+",17,"+",8,"=",null,{"$f":"IF(I3=SUM(A3:G3),\"BIEN\",\"\")","v":""},"nivel 3"]
[9,"+",9,"+",8,"+",13,"=",null,""]
[5,"+",5,"+",9,"+",9,"=",null,"","nivel 4"]
[12,"+",5,"+",14,"+",6,"=",null,"","nivel 5"]
[6,"+",12,"+",6,"+",12,"=",null,"","nivel 6"]
[3,"+",6,"+",16,"+",4,"=",null,""]
[9,"+",7,"+",7,"+",21,"=",null,""]
[13,"+",3,"+",9,"+",3,"=",null,""]
[8,"+",12,"+",8,"+",4,"=",null,""]
[6,"+",5,"+",5,"+",9,"=",null,""]
[9,"+",4,"+",9,"+",8,"=",null,""]
[12,"+",14,"+",12,"+",6,"=",null,""]
[8,"+",9,"+",18,"+",6,"=",null,""]

{"sheet":"NIVEL4","index":3,"n_rows":15,"n_cols":27,"rows_kept":15,"cut":false,"hidden":false,"merged":[[2,26,2,27],[0,6,0,7],[0,10,0,18],[0,3,0,4],[1,26,1,27],[0,21,0,23]]}
[null,null,null,"aciertos",null,{"$f":"COUNTIF(Z2:Z26,\"bien\")","v":0},"de 14",null,null,null,{"$f":"IF(F1=14,\"pasa  al siguiente nivel\",\"\")","v":""},null,null,null,null,null,null,null,null,null,null,{"$f":"'NIVEL 1'!P2","v":"00:00:00.060"}]
[2,"+",5,"+",4,"+",4,"+",2,"+",5,"+",4,"+",4,"+",2,"+",5,"+",4,"+",4,"=",null,{"$f":"IF(Y2=SUM(A2:W2),\"BIEN\",\"\")","v":""},"volver"]
[6,"+",3,"+",6,"+",5,"+",6,"+",3,"+",6,"+",5,"+",6,"+",3,"+",6,"+",5,"=",null,{"$f":"IF(Y3=SUM(A3:W3),\"BIEN\",\"\")","v":""},"nivel 4"]
[3,"+",8,"+",6,"+",8,"+",3,"+",8,"+",6,"+",8,"+",3,"+",8,"+",6,"+",8,"=",null,""]
[7,"+",9,"+",5,"+",4,"+",7,"+",9,"+",5,"+",4,"+",7,"+",9,"+",5,"+",4,"=",null,""]
[6,"+",5,"+",9,"+",3,"+",6,"+",5,"+",9,"+",3,"+",6,"+",5,"+",9,"+",3,"=",null,""]
[8,"+",5,"+",7,"+",6,"+",8,"+",5,"+",7,"+",6,"+",8,"+",5,"+",7,"+",6,"=",null,""]
[6,"+",4,"+",6,"+",8,"+",6,"+",4,"+",6,"+",8,"+",6,"+",4,"+",6,"+",8,"=",null,""]
[3,"+",6,"+",5,"+",4,"+",3,"+",6,"+",5,"+",4,"+",3,"+",6,"+",5,"+",4,"=",null,{"$f":"IF(Y9=SUM(A9:W9),\"BIEN\",\"\")","v":""}]
[9,"+",7,"+",7,"+",6,"+",9,"+",7,"+",7,"+",6,"+",9,"+",7,"+",7,"+",6,"=",null,""]
[6,"+",3,"+",3,"+",3,"+",6,"+",3,"+",3,"+",3,"+",6,"+",3,"+",3,"+",3,"=",null,""]
[8,"+",6,"+",4,"+",4,"+",8,"+",6,"+",4,"+",4,"+",8,"+",6,"+",4,"+",4,"=",null,""]
[6,"+",5,"+",5,"+",9,"+",6,"+",5,"+",5,"+",9,"+",6,"+",5,"+",5,"+",9,"=",null,""]
[7,"+",4,"+",9,"+",8,"+",7,"+",4,"+",9,"+",8,"+",7,"+",4,"+",9,"+",8,"=",null,""]
[6,"+",5,"+",4,"+",6,"+",6,"+",5,"+",4,"+",6,"+",6,"+",5,"+",4,"+",6,"=",null,""]

{"sheet":"NIVEL5","index":4,"n_rows":15,"n_cols":16,"rows_kept":15,"cut":false,"hidden":false,"merged":[[1,10,1,12]]}
[13,"+",12,"+",8,"+",15,"=",null,{"$f":"IF(I1=SUM(A1:G1),\"BIEN\",\"\")","v":""},"aciertos",{"$f":"COUNTIF(J1:J25,\"bien\")","v":0},"de 15"]
[12,"+",9,"+",8,"+",5,"=",null,{"$f":"IF(I2=SUM(A2:G2),\"BIEN\",\"\")","v":""},{"$f":"IF(L1=15,\"pasa  al siguiente nivel\",\"\")","v":""},null,null,{"$f":"'NIVEL 1'!P2","v":"00:00:00.060"},null,"volver"]
[13,"+",8,"+",17,"+",8,"=",null,{"$f":"IF(I3=SUM(A3:G3),\"BIEN\",\"\")","v":""},"nivel 5"]
[9,"+",25,"+",8,"+",13,"=",null,""]
[16,"+",16,"+",9,"+",9,"=",null,""]
[12,"+",5,"+",14,"+",6,"=",null,""]
[6,"+",12,"+",6,"+",12,"=",null,""]
[12,"+",6,"+",16,"+",36,"=",null,""]
[40,"+",15,"+",12,"+",21,"=",null,""]
[16,"+",7,"+",8,"+",26,"=",null,""]
[12,"+",12,"+",16,"+",9,"=",null,""]
[32,"+",17,"+",17,"+",11,"=",null,""]
[32,"+",31,"+",33,"+",14,"=",null,""]
[12,"+",14,"+",12,"+",36,"=",null,""]
[9,"+",15,"+",8,"+",22,"=",null,""]

{"sheet":"NIVEL6","index":5,"n_rows":15,"n_cols":10,"rows_kept":15,"cut":false,"hidden":false,"merged":[[1,6,1,8]]}
[12,"resta",2,"=",null,{"$f":"IF(E1=SUM(A1-C1),\"BIEN\",\"\")","v":""},"aciertos",{"$f":"COUNTIF(F1:F25,\"bien\")","v":0},"de 15"]
[25,"resta",8,"=",null,{"$f":"IF(E2=SUM(A2-C2),\"BIEN\",\"\")","v":""},{"$f":"'NIVEL 1'!P2","v":"00:00:00.060"},null,null,"volver"]
[10,"resta",5,"=",null,"","nivel 6"]
[14,"resta",4,"=",null,""]
[35,"resta",5,"=",null,""]
[16,"resta",8,"=",null,""]
[18,"resta",6,"=",null,""]
[26,"resta",3,"=",null,""]
[35,"resta",15,"=",null,""]
[15,"resta",6,"=",null,{"$f":"IF(E10=SUM(A10-C10),\"BIEN\",\"\")","v":""}]
[35,"resta",6,"=",null,""]
[68,"resta",9,"=",null,""]
[48,"resta",16,"=",null,""]
[36,"resta",7,"=",null,""]
[25,"resta",18,"=",null,""]

{"sheet":"TIEMPO","index":6,"n_rows":25,"n_cols":6,"rows_kept":25,"cut":false,"hidden":false,"merged":[]}
[null,null,"MEJORAR"]
[null,null,"DOMINAS"]
[null,{"$f":"MIN(B5:B426)","v":7.12},"EXPERTO",null,null,"volver"]
[{"$f":"TODAY()","v":"2011-12-07"},null,"GENIO"]
["2010-11-18",16.36,"joan"]
["2010-11-18",16.39,"joan"]
["2010-11-21",13.22,"joan"]
["2010-11-22",11.56,"joan"]
["2010-11-25",12.23,"joan"]
["2010-12-03",15.2,"joan"]
["2010-12-06",14.3,"joan"]
["2011-01-07",13.32,"joan"]
["2011-01-09",13.13,"joan"]
["2011-02-10",14.17,"joan"]
["2011-04-01",15.19,"joan"]
["2011-05-30",14.47,"joan"]
["2011-06-14",16.38,"joannostro"]
["2011-06-17",12.47,"yo mismo"]
["2011-07-28",13.37,"YO"]
["2011-08-18",13.55,"joannostro"]
["2011-08-23",13.06,"JOAN"]
["2011-09-19",14.18,"yo"]
["2011-09-25",12.26,"PAPI"]
["2011-09-30",13.42,"JOAN YO"]
["2011-12-07",7.12,"PAPA"]