{"text_format":"1","workbook":"xlsx","n_sheets":13,"sheets":["ANUAL 2014","ENERO","FEBRERO","MARZO","ABRIL","MAYO","JUNIO","JULIO","AGOSTO","SEPTIIEMBRE","OCTUBRE","NOVIEMBRE","DICIEMBRE"],"not_rendered":{"charts":13,"images":0,"macros":1,"external_links":0,"defined_names":0,"comments":0,"pivot_tables":0},"unopened":[],"bounds":{"document_bytes":16777216,"sheet_cells":100000,"rows_first":2000,"rows_last":500,"rows_between":2000,"halvings":0,"cell_chars":16384,"cell_head_chars":4096},"cells_cut":0,"cells_raw":0,"read":"whole","date_system":"1900"}

{"sheet":"ANUAL 2014","index":0,"n_rows":30,"n_cols":14,"rows_kept":30,"cut":false,"hidden":false,"merged":[[29,8,29,9]]}
["ENERO","FEBRERO","MARZO","ABRIL","MAYO","JUNIO","JULIO","AGOSTO","SEPTIEMBRE","OCTUBRE","NOVIEMBRE","DICIEMBRE"]
["2012-01-01","2012-02-01","2012-03-01","2012-04-01","2012-05-01","2012-06-01","2012-07-01","2012-08-01","2012-09-01","2012-10-01","2012-11-01","2012-12-01","2014-01-01","2013-01-01"]
[{"$f":"B2-A2","v":31},{"$f":"C2-B2","v":29},31,30,31,30,31,31,30,31,30,{"$f":"N2-L2","v":31}]
[{"$f":"ENERO!$C$1","v":0},{"$f":"FEBRERO!$D$1","v":0},{"$f":"MARZO!$C$1","v":0},{"$f":"ABRIL!$C$1","v":0},{"$f":"MAYO!$C$1","v":0},{"$f":"JUNIO!$C$1","v":0},{"$f":"JULIO!$C$1","v":0},{"$f":"AGOSTO!$C$1","v":0},{"$f":"SEPTIIEMBRE!$C$1","v":0},{"$f":"OCTUBRE!$C$1","v":0},{"$f":"NOVIEMBRE!$C$1","v":0},{"$f":"DICIEMBRE!$C$1","v":0}]
[]
[]
[]
[]
[]
[]
[]
[]
[]
[]
[]
[]
[]
[]
[]
[]
[]
[]
[]
[]
[]
[]
[]
[]
[]
[null,null,null,null,null,null,null,null,"joannnostro.com"]

{"sheet":"ENERO","index":1,"n_rows":32,"n_cols":5,"rows_kept":32,"cut":false,"hidden":false,"merged":[]}
[{"$f":"TODAY()","v":"2014-03-17"},"ENERO 2014",{"$f":"SUM(B2:B23)","v":0},{"$f":"MAX(B2:B23)","v":0},{"$f":"MIN(B2:B23)","v":0}]
["2014-01-01",0]
["2014-01-02"]
["2014-01-03"]
["2014-01-04"]
["2014-01-05"]
["2014-01-06"]
["2014-01-07"]
["2014-01-08"]
["2014-01-09"]
["2014-01-10"]
["2014-01-11"]
["2014-01-12"]
["2014-01-13"]
["2014-01-14"]
["2014-01-15"]
["2014-01-16"]
["2014-01-17"]
["2014-01-18"]
["2014-01-19"]
["2014-01-20"]
["2014-01-21"]
["2014-01-22"]
["2014-01-23"]
["2014-01-24"]
["2014-01-25"]
["2014-01-26"]
["2014-01-27"]
["2014-01-28"]
["2014-01-29"]
["2014-01-30"]
["2014-01-31"]

{"sheet":"FEBRERO","index":2,"n_rows":29,"n_cols":6,"rows_kept":29,"cut":false,"hidden":false,"merged":[]}
[null,{"$f":"TODAY()","v":"2014-03-17"},"FEBRERO 2014",{"$f":"SUM(C2:C23)","v":0},{"$f":"MAX(C2:C23)","v":0},{"$f":"MIN(C2:C23)","v":0}]
[1,"2014-02-01",0]
[2,"2014-02-02"]
[3,"2014-02-03"]
[4,"2014-02-04"]
[5,"2014-02-05"]
[6,"2014-02-06"]
[7,"2014-02-07"]
[8,"2014-02-08"]
[9,"2014-02-09"]
[10,"2014-02-10"]
[11,"2014-02-11"]
[12,"2014-02-12"]
[13,"2014-02-13"]
[14,"2014-02-14"]
[15,"2014-02-15"]
[16,"2014-02-16"]
[17,"2014-02-17"]
[18,"2014-02-18"]
[19,"2014-02-19"]
[20,"2014-02-20"]
[21,"2014-02-21"]
[22,"2014-02-22"]
[23,"2014-02-23"]
[24,"2014-02-24"]
[25,"2014-02-25"]
[26,"2014-02-26"]
[27,"2014-02-27"]
[28,"2014-02-28"]

{"sheet":"MARZO","index":3,"n_rows":32,"n_cols":5,"rows_kept":32,"cut":false,"hidden":false,"merged":[]}
[{"$f":"TODAY()","v":"2014-03-17"},"MARZO 2014",{"$f":"SUM(B2:B23)","v":0},{"$f":"MAX(B2:B23)","v":0},{"$f":"MIN(B2:B23)","v":0}]
["2014-03-01",0]
["2014-03-02"]
["2014-03-03"]
["2014-03-04"]
["2014-03-05"]
["2014-03-06"]
["2014-03-07"]
["2014-03-08"]
["2014-03-09"]
["2014-03-10"]
["2014-03-11"]
["2014-03-12"]
["2014-03-13"]
["2014-03-14"]
["2014-03-15"]
["2014-03-16"]
["2014-03-17"]
["2014-03-18"]
["2014-03-19"]
["2014-03-20"]
["2014-03-21"]
["2014-03-22"]
["2014-03-23"]
["2014-03-24"]
["2014-03-25"]
["2014-03-26"]
["2014-03-27"]
["2014-03-28"]
["2014-03-29"]
["2014-03-30"]
["2014-03-31"]

{"sheet":"ABRIL","index":4,"n_rows":31,"n_cols":5,"rows_kept":31,"cut":false,"hidden":false,"merged":[]}
[{"$f":"TODAY()","v":"2014-03-17"},"ABRIL 2014",{"$f":"SUM(B2:B23)","v":0},{"$f":"MAX(B2:B23)","v":0},{"$f":"MIN(B2:B23)","v":0}]
["2014-04-01",0]
["2014-04-02"]
["2014-04-03"]
["2014-04-04"]
["2014-04-05"]
["2014-04-06"]
["2014-04-07"]
["2014-04-08"]
["2014-04-09"]
["2014-04-10"]
["2014-04-11"]
["2014-04-12"]
["2014-04-13"]
["2014-04-14"]
["2014-04-15"]
["2014-04-16"]
["2014-04-17"]
["2014-04-18"]
["2014-04-19"]
["2014-04-20"]
["2014-04-21"]
["2014-04-22"]
["2014-04-23"]
["2014-04-24"]
["2014-04-25"]
["2014-04-26"]
["2014-04-27"]
["2014-04-28"]
["2014-04-29"]
["2014-04-30"]

{"sheet":"MAYO","index":5,"n_rows":32,"n_cols":5,"rows_kept":32,"cut":false,"hidden":false,"merged":[]}
[{"$f":"TODAY()","v":"2014-03-17"},"MAYO 2014",{"$f":"SUM(B2:B23)","v":0},{"$f":"MAX(B2:B23)","v":0},{"$f":"MIN(B2:B23)","v":0}]
["2014-05-01",0]
["2014-05-02"]
["2014-05-03"]
["2014-05-04"]
["2014-05-05"]
["2014-05-06"]
["2014-05-07"]
["2014-05-08"]
["2014-05-09"]
["2014-05-10"]
["2014-05-11"]
["2014-05-12"]
["2014-05-13"]
["2014-05-14"]
["2014-05-15"]
["2014-05-16"]
["2014-05-17"]
["2014-05-18"]
["2014-05-19"]
["2014-05-20"]
["2014-05-21"]
["2014-05-22"]
["2014-05-23"]
["2014-05-24"]
["2014-05-25"]
["2014-05-26"]
["2014-05-27"]
["2014-05-28"]
["2014-05-29"]
["2014-05-30"]
["2014-05-31"]

{"sheet":"JUNIO","index":6,"n_rows":31,"n_cols":5,"rows_kept":31,"cut":false,"hidden":false,"merged":[]}
[{"$f":"TODAY()","v":"2014-03-17"},"JUNIO 2014",{"$f":"SUM(B2:B23)","v":0},{"$f":"MAX(B2:B23)","v":0},{"$f":"MIN(B2:B23)","v":0}]
["2014-06-01",0]
["2014-06-02"]
["2014-06-03"]
["2014-06-04"]
["2014-06-05"]
["2014-06-06"]
["2014-06-07"]
["2014-06-08"]
["2014-06-09"]
["2014-06-10"]
["2014-06-11"]
["2014-06-12"]
["2014-06-13"]
["2014-06-14"]
["2014-06-15"]
["2014-06-16"]
["2014-06-17"]
["2014-06-18"]
["2014-06-19"]
["2014-06-20"]
["2014-06-21"]
["2014-06-22"]
["2014-06-23"]
["2014-06-24"]
["2014-06-25"]
["2014-06-26"]
["2014-06-27"]
["2014-06-28"]
["2014-06-29"]
["2014-06-30"]

{"sheet":"JULIO","index":7,"n_rows":32,"n_cols":5,"rows_kept":32,"cut":false,"hidden":false,"merged":[]}
[{"$f":"TODAY()","v":"2014-03-17"},"JULIO 2014",{"$f":"SUM(B2:B23)","v":0},{"$f":"MAX(B2:B23)","v":0},{"$f":"MIN(B2:B23)","v":0}]
["2014-07-01",0]
["2014-07-02"]
["2014-07-03"]
["2014-07-04"]
["2014-07-05"]
["2014-07-06"]
["2014-07-07"]
["2014-07-08"]
["2014-07-09"]
["2014-07-10"]
["2014-07-11"]
["2014-07-12"]
["2014-07-13"]
["2014-07-14"]
["2014-07-15"]
["2014-07-16"]
["2014-07-17"]
["2014-07-18"]
["2014-07-19"]
["2014-07-20"]
["2014-07-21"]
["2014-07-22"]
["2014-07-23"]
["2014-07-24"]
["2014-07-25"]
["2014-07-26"]
["2014-07-27"]
["2014-07-28"]
["2014-07-29"]
["2014-07-30"]
["2014-07-31"]

{"sheet":"AGOSTO","index":8,"n_rows":32,"n_cols":5,"rows_kept":32,"cut":false,"hidden":false,"merged":[]}
[{"$f":"TODAY()","v":"2014-03-17"},"AGOSTO 2014",{"$f":"SUM(B2:B23)","v":0},{"$f":"MAX(B2:B23)","v":0},{"$f":"MIN(B2:B23)","v":0}]
["2014-08-01",0]
["2014-08-02"]
["2014-08-03"]
["2014-08-04"]
["2014-08-05"]
["2014-08-06"]
["2014-08-07"]
["2014-08-08"]
["2014-08-09"]
["2014-08-10"]
["2014-08-11"]
["2014-08-12"]
["2014-08-13"]
["2014-08-14"]
["2014-08-15"]
["2014-08-16"]
["2014-08-17"]
["2014-08-18"]
["2014-08-19"]
["2014-08-20"]
["2014-08-21"]
["2014-08-22"]
["2014-08-23"]
["2014-08-24"]
["2014-08-25"]
["2014-08-26"]
["2014-08-27"]
["2014-08-28"]
["2014-08-29"]
["2014-08-30"]
["2014-08-31"]

{"sheet":"SEPTIIEMBRE","index":9,"n_rows":31,"n_cols":5,"rows_kept":31,"cut":false,"hidden":false,"merged":[]}
[{"$f":"TODAY()","v":"2014-03-17"},"SEPTIEMBRE 2014",{"$f":"SUM(B2:B23)","v":0},{"$f":"MAX(B2:B23)","v":0},{"$f":"MIN(B2:B23)","v":0}]
["2014-09-01",0]
["2014-09-02"]
["2014-09-03"]
["2014-09-04"]
["2014-09-05"]
["2014-09-06"]
["2014-09-07"]
["2014-09-08"]
["2014-09-09"]
["2014-09-10"]
["2014-09-11"]
["2014-09-12"]
["2014-09-13"]
["2014-09-14"]
["2014-09-15"]
["2014-09-16"]
["2014-09-17"]
["2014-09-18"]
["2014-09-19"]
["2014-09-20"]
["2014-09-21"]
["2014-09-22"]
["2014-09-23"]
["2014-09-24"]
["2014-09-25"]
["2014-09-26"]
["2014-09-27"]
["2014-09-28"]
["2014-09-29"]
["2014-09-30"]

{"sheet":"OCTUBRE","index":10,"n_rows":32,"n_cols":5,"rows_kept":32,"cut":false,"hidden":false,"merged":[]}
[{"$f":"TODAY()","v":"2014-03-17"},"OCTUBRE 2014",{"$f":"SUM(B2:B23)","v":0},{"$f":"MAX(B2:B23)","v":0},{"$f":"MIN(B2:B23)","v":0}]
["2014-10-01",0]
["2014-10-02"]
["2014-10-03"]
["2014-10-04"]
["2014-10-05"]
["2014-10-06"]
["2014-10-07"]
["2014-10-08"]
["2014-10-09"]
["2014-10-10"]
["2014-10-11"]
["2014-10-12"]
["2014-10-13"]
["2014-10-14"]
["2014-10-15"]
["2014-10-16"]
["2014-10-17"]
["2014-10-18"]
["2014-10-19"]
["2014-10-20"]
["2014-10-21"]
["2014-10-22"]
["2014-10-23"]
["2014-10-24"]
["2014-10-25"]
["2014-10-26"]
["2014-10-27"]
["2014-10-28"]
["2014-10-29"]
["2014-10-30"]
["2014-10-31"]

{"sheet":"NOVIEMBRE","index":11,"n_rows":31,"n_cols":5,"rows_kept":31,"cut":false,"hidden":false,"merged":[]}
[{"$f":"TODAY()","v":"2014-03-17"},"NOVIEMBRE 2014",{"$f":"SUM(B2:B23)","v":0},{"$f":"MAX(B2:B23)","v":0},{"$f":"MIN(B2:B23)","v":0}]
["2014-11-01",0]
["2014-11-02"]
["2014-11-03"]
["2014-11-04"]
["2014-11-05"]
["2014-11-06"]
["2014-11-07"]
["2014-11-08"]
["2014-11-09"]
["2014-11-10"]
["2014-11-11"]
["2014-11-12"]
["2014-11-13"]
["2014-11-14"]
["2014-11-15"]
["2014-11-16"]
["2014-11-17"]
["2014-11-18"]
["2014-11-19"]
["2014-11-20"]
["2014-11-21"]
["2014-11-22"]
["2014-11-23"]
["2014-11-24"]
["2014-11-25"]
["2014-11-26"]
["2014-11-27"]
["2014-11-28"]
["2014-11-29"]
["2014-11-30"]

{"sheet":"DICIEMBRE","index":12,"n_rows":32,"n_cols":5,"rows_kept":32,"cut":false,"hidden":false,"merged":[]}
[{"$f":"TODAY()","v":"2014-03-17"},"DICIEMBRE 2014",{"$f":"SUM(B2:B23)","v":0},{"$f":"MAX(B2:B23)","v":0},{"$f":"MIN(B2:B23)","v":0}]
["2014-12-01",0]
["2014-12-02"]
["2014-12-03"]
["2014-12-04"]
["2014-12-05"]
["2014-12-06"]
["2014-12-07"]
["2014-12-08"]
["2014-12-09"]
["2014-12-10"]
["2014-12-11"]
["2014-12-12"]
["2014-12-13"]
["2014-12-14"]
["2014-12-15"]
["2014-12-16"]
["2014-12-17"]
["2014-12-18"]
["2014-12-19"]
["2014-12-20"]
["2014-12-21"]
["2014-12-22"]
["2014-12-23"]
["2014-12-24"]
["2014-12-25"]
["2014-12-26"]
["2014-12-27"]
["2014-12-28"]
["2014-12-29"]
["2014-12-30"]
["2014-12-31"]