{"text_format":"1","workbook":"xlsx","n_sheets":2,"sheets":["Hoja1","Hoja3"],"not_rendered":{"charts":0,"images":57,"macros":1,"external_links":0,"defined_names":0,"comments":0,"pivot_tables":0},"unopened":[],"bounds":{"document_bytes":16777216,"sheet_cells":100000,"rows_first":2000,"rows_last":500,"rows_between":2000,"halvings":0,"cell_chars":16384,"cell_head_chars":4096},"cells_cut":0,"cells_raw":0,"read":"whole","date_system":"1900"}

{"sheet":"Hoja1","index":0,"n_rows":153,"n_cols":25,"rows_kept":153,"cut":false,"hidden":true,"merged":[]}
[1,"ROD STEWART","R","O","D",null,"S","T","E","W","A","R","T",null,null,null,null,null,null,null,null,null,null,"CANTANTE",{"$f":"SUM(Hoja3!D7,Hoja3!J7,Hoja3!P7,Hoja3!V7,Hoja3!D10,Hoja3!J10,Hoja3!P10,Hoja3!V10,Hoja3!D13,Hoja3!J13,Hoja3!P13,Hoja3!V13,Hoja3!D16,Hoja3!J16,Hoja3!P16,Hoja3!V16,Hoja3!D19,Hoja3!J19,Hoja3!P19,Hoja3!V19,Hoja3!D22,Hoja3!J22,Hoja3!P22,Hoja3!V22,Hoja3!D25,Hoja3!J25,Hoja3!P25,Hoja3!V25,Hoja3!D28,Hoja3!J28,Hoja3!P28,Hoja3!V28,Hoja3!D31,Hoja3!J31,Hoja3!P31,Hoja3!V31,Hoja3!D34,Hoja3!J34,Hoja3!P34,Hoja3!V34,Hoja3!D37,Hoja3!J37:K37,Hoja3!P37,Hoja3!V37,Hoja3!D40,Hoja3!J40,Hoja3!P40,Hoja3!V40,Hoja3!D43,Hoja3!J43,Hoja3!P43,Hoja3!V43,Hoja3!D46,Hoja3!J46)","v":0}]
[2,"HARRISON FORD","H","A","R","R","I","S","O","N",null,"F","O","R","D",null,null,null,null,null,null,null,null,"CINE"]
[3,"Nelson Mandela","N","E","L","S","O","N",null,"M","A","N","D","E","L","A"]
[4,"Steven Spielberg","S","T","E","V","E","N",null,"S","P","I","E","L","B","E","R","G",null,null,null,null,null,"CINE"]
[5,"samantha","S","A","M","A","N","T","H","A",null,null,null,null,null,null,null,null,null,null,null,null,null,"nombre en la serie"]
[6,"batman","B","A","T","M","A","N"]
[7,"torres petronas","T","O","R","R","E","S",null,"P","E","T","R","O","N","A","S"]
[8,"BRAD PITT","B","R","A","D",null,"P","I","T","T",null,null,null,null,null,null,null,null,null,null,null,null,"CINE"]
[9,"LEONARDO DICAPRIO","L","E","O","N","A","R","D","O",null,"D","I","C","A","P","R","I","O",null,null,null,null,"CINE"]
[10,"ARCO DEL TRIUNFO","A","R","C","O",null,"D","E","L",null,"T","R","I","U","N","F","O",null,null,null,null,null,"PARIS"]
[11,"MARI POPPINS","M","A","R","I",null,"P","O","P","P","I","N","S",null,null,null,null,null,null,null,null,null,"nombre en la serie"]
[12,"kevin","K","E","V","I","N",null,null,null,null,null,null,null,null,null,null,null,null,null,null,null,null,"nombre en la  peli"]
[13,"Carlos Santana","C","A","R","L","O","S",null,"S","A","N","T","A","N","A"]
[14,"TOM HANKS","T","O","M",null,"H","A","N","K","S",null,null,null,null,null,null,null,null,null,null,null,null,"CINE"]
[15,"ADOLFO HITLER","A","D","O","L","F","O",null,"H","I","T","L","E","R"]
[16,"EVA PERON","E","V","A",null,"P","E","R","O","N"]
[17,"Jose Ortega Cano","J","O","S","E",null,"O","R","T","E","G","A",null,"C","A","N","O"]
[18,"Elvis Presley","E","L","V","I","S",null,"P","R","E","S","L","E","Y",null,null,null,null,null,null,null,null,"CANTANTE"]
[19,"Sophia Loren","S","O","P","H","I","A",null,"L","O","R","E","N",null,null,null,null,null,null,null,null,null,"ACTRIZ"]
[20,"EL PUMA","E","L",null,"P","U","M","A",null,null,null,null,null,null,null,null,null,null,null,null,null,null,"Jose Luis Rodriguez"]
[21,"ISABEL PANTOJA","I","S","A","B","E","L",null,"P","A","N","T","O","J","A",null,null,null,null,null,null,null,"CANTANTE"]
[22,"JOSELITO","J","O","S","E","L","I","T","O",null,null,null,null,null,null,null,null,null,null,null,null,null,"NIÑO PRODIGIO"]
[23,"Ana Rosa Quintana","A","N","A",null,"R","O","S","A",null,"Q","U","I","N","T","A","N","A",null,null,null,null,"TV"]
[24,"maria teresa campos","M","A","R","I","A",null,"T","E","R","E","S","A",null,"C","A","M","P","O","S",null,null,"TV"]
[25,"jorge javier vazquez","J","O","R","G","E",null,"J","A","V","I","E","R",null,"V","A","Z","Q","U","E","Z"]
[26,"STING","S","T","I","N","G",null,null,null,null,null,null,null,null,null,null,null,null,null,null,null,null,"CANTANTE"]
[27,"MARIAH CAREY","M","A","R","I","A","H",null,"C","A","R","E","Y",null,null,null,null,null,null,null,null,null,"CANTANTE"]
[28,"MICHAEL JACKSON","M","I","C","H","A","E","L",null,"J","A","C","K","S","O","N"]
[29,"Bruce Lee","B","R","U","C","E",null,"L","E","E"]
[30,"Jackie Chan","J","A","C","K","I","E",null,"C","H","A","N"]
[31,"WILL SMITH","W","I","L","L",null,"S","M","I","T","H",null,null,null,null,null,null,null,null,null,null,null,"CINE"]
[32,"ANGELINA JOLIE","A","N","G","E","L","I","N","A",null,"J","O","L","I","E",null,null,null,null,null,null,null,"CINE"]
[33,"Pep Guardiola","P","E","P",null,"G","U","A","R","D","I","O","L","A",null,null,null,null,null,null,null,null,"DEPORTE"]
[34,"KEVIN COSTNER","K","E","V","I","N",null,"C","O","S","T","N","E","R",null,null,null,null,null,null,null,null,"CINE"]
[35,"Pablo Picasso","P","A","B","L","O",null,"P","I","C","A","S","O"]
[36,"Albert Einstein","A","L","B","E","R","T",null,"E","I","N","S","T","E","I","N"]
[37,"Oscar Martinez","O","S","C","A","R",null,"M","A","R","T","I","N","E","Z",null,null,null,null,null,null,null,"TV"]
[38,"Joaquin Prats","J","O","A","Q","U","I","N",null,"P","R","A","T","S",null,null,null,null,null,null,null,null,"TV"]
[39,"Letizia Ortiz","L","E","T","I","Z","I","A",null,"O","R","T","I","Z",null,null,null,null,null,null,null,null,"TV"]
[40,"Matias Prats","M","A","T","I","A","S",null,"P","R","A","T","S",null,null,null,null,null,null,null,null,null,"TV"]
[41,"Johan Cruyff","J","O","H","A","N",null,"C","R","U","Y","F","F",null,null,null,null,null,null,null,null,null,"DEPORTE"]
[42,"Gregory Peck","G","R","E","G","O","R","Y",null,"P","E","C","K",null,null,null,null,null,null,null,null,null,"CINE"]
[43,"Kirk Douglas","K","I","R","K",null,"D","O","U","G","L","A","S",null,null,null,null,null,null,null,null,null,"CINE"]
[44,"Raphael","R","A","P","H","A","E","L"]
[45,"Fidel Castro","F","I","D","E","L",null,"C","A","S","T","R","O"]
[46,"Constantino Romero","C","O","N","S","T","A","N","T","I","N","O",null,"R","O","M","E","R","O",null,null,null,"TV"]
[47,"ZAPATERO","Z","A","P","A","T","E","R","O"]
[48,"FELIPE GONZALEZ","F","E","L","I","P","E",null,"G","O","N","Z","A","L","E","Z"]
[49,"Jose Maria Aznar","J","O","S","E",null,"M","A","R","I","A",null,"A","Z","N","A","R"]
[50,"ADOLFO SUAREZ","A","D","O","L","F","O",null,"S","U","A","R","E","Z"]
[51,"Leopoldo Calvo Sotelo","L","E","O","P","O","L","D","O",null,"C","A","L","V","O",null,"S","O","T","E","L","O","CANTANTE"]
[52,"Miguel Rios","M","I","G","U","E","L",null,"R","I","O","S"]
[53,"Teresa de Calcuta","T","E","R","E","S","A",null,"D","E",null,"C","A","L","C","U","T","A"]
[54,"GENTO","G","E","N","T","O"]
[55,null,"-","-","-","-","-",null,"-","-","-","-","-"]
[56,null,"-","-","-","-","-",null,"-","-","-","-","-"]
[57]
[58]
[59]
[60]
[61]
[62]
[63]
[64]
[65]
[66]
[67]
[68]
[69]
[70]
[71]
[72]
[73]
[74]
[75]
[76]
[77]
[78]
[79]
[80]
[81]
[82]
[83]
[84]
[85]
[86]
[87]
[88]
[89]
[90]
[91]
[92]
[93]
[94]
[95]
[96]
[97]
[98]
[99]
[100]
[101]
[102]
[103]
[104]
[105]
[106]
[107]
[108]
[109]
[110]
[111]
[112]
[113]
[114]
[115]
[116]
[117]
[118]
[119]
[120]
[121]
[122]
[123]
[124]
[125]
[126]
[127]
[128]
[129]
[130]
[131]
[132]
[133]
[134]
[135]
[136]
[137]
[138]
[139]
[140]
[141]
[142]
[143]
[144]
[145]
[146]
[147]
[148]
[149]
[150]
[151]
[152]
[153]

{"sheet":"Hoja3","index":1,"n_rows":47,"n_cols":24,"rows_kept":47,"cut":false,"hidden":false,"merged":[[42,5,42,8],[42,17,42,20],[43,5,43,8],[43,17,43,20],[3,16,3,17],[43,10,43,14],[30,5,30,8],[30,11,30,14],[30,17,30,20],[31,5,31,8],[31,11,31,14],[31,17,31,20],[34,5,34,8],[34,11,34,14],[34,17,34,20],[32,5,32,8],[32,11,32,14],[32,17,32,20],[33,5,33,8],[33,11,33,14],[33,17,33,20],[16,5,16,8],[16,11,16,14],[16,17,16,20],[0,1,1,1],[4,36,13,36],[9,11,9,14],[10,11,10,14],[9,17,9,20],[10,17,10,20],[11,5,11,8],[11,11,11,14],[11,17,11,20],[12,17,12,20],[13,17,13,20],[12,5,12,8],[12,11,12,14],[4,38,13,38],[4,31,13,31],[4,35,13,35],[7,26,13,26],[3,3,3,13],[8,5,8,8],[8,11,8,14],[8,17,8,20],[5,5,5,8],[5,11,5,14],[5,17,5,20],[6,5,6,8],[6,11,6,14],[7,11,7,14],[9,5,9,8],[10,5,10,8],[7,5,7,8],[6,17,6,20],[7,17,7,20],[13,5,13,8],[13,11,13,14],[3,18,3,19],[14,11,14,14],[14,17,14,20],[17,5,17,8],[17,11,17,14],[17,17,17,20],[15,5,15,8],[15,11,15,14],[15,17,15,20],[14,5,14,8],[19,5,19,8],[19,11,19,14],[19,17,19,20],[20,5,20,8],[20,11,20,14],[20,17,20,20],[18,5,18,8],[18,11,18,14],[18,17,18,20],[23,5,23,8],[23,11,23,14],[23,17,23,20],[21,5,21,8],[21,11,21,14],[21,17,21,20],[22,5,22,8],[22,11,22,14],[22,17,22,20],[35,5,35,8],[35,11,35,14],[35,17,35,20],[36,5,36,8],[36,11,36,14],[36,17,36,20],[24,5,24,8],[24,11,24,14],[24,17,24,20],[25,5,25,8],[25,11,25,14],[25,17,25,20],[26,5,26,8],[26,11,26,14],[26,17,26,20],[27,5,27,8],[27,11,27,14],[27,17,27,20],[28,5,28,8],[28,11,28,14],[28,17,28,20],[29,5,29,8],[29,11,29,14],[29,17,29,20],[45,5,45,8],[45,17,45,20],[45,11,45,14],[46,5,46,8],[46,11,46,14],[46,17,46,20],[37,5,37,8],[37,11,37,14],[37,17,37,20],[38,5,38,8],[38,11,38,14],[38,17,38,20],[39,5,39,8],[39,11,39,14],[39,17,39,20],[40,5,40,8],[40,11,40,14],[40,17,40,20],[44,5,44,8],[44,17,44,20],[42,10,42,14],[41,5,41,8],[41,11,41,14],[41,17,41,20]]}
[null,{"$f":"VLOOKUP(B3,Hoja1!A1:X2000,24,FALSE)","v":"CANTANTE"},null,{"$f":"VLOOKUP($B$3,Hoja1!$A$1:$W$122,3,FALSE)","v":"R"},{"$f":"VLOOKUP($B$3,Hoja1!$A$1:$W$122,4,FALSE)","v":"O"},{"$f":"VLOOKUP($B$3,Hoja1!$A$1:$W$122,5,FALSE)","v":"D"},{"$f":"VLOOKUP($B$3,Hoja1!$A$1:$W$122,6,FALSE)","v":0},{"$f":"VLOOKUP($B$3,Hoja1!$A$1:$W$122,7,FALSE)","v":"S"},{"$f":"VLOOKUP($B$3,Hoja1!$A$1:$W$122,8,FALSE)","v":"T"},{"$f":"VLOOKUP($B$3,Hoja1!$A$1:$W$122,9,FALSE)","v":"E"},{"$f":"VLOOKUP($B$3,Hoja1!$A$1:$W$122,10,FALSE)","v":"W"},{"$f":"VLOOKUP($B$3,Hoja1!$A$1:$W$122,11,FALSE)","v":"A"},{"$f":"VLOOKUP($B$3,Hoja1!$A$1:$W$122,12,FALSE)","v":"R"},{"$f":"VLOOKUP($B$3,Hoja1!$A$1:$W$122,13,FALSE)","v":"T"},{"$f":"VLOOKUP($B$3,Hoja1!$A$1:$W$122,14,FALSE)","v":0},{"$f":"VLOOKUP($B$3,Hoja1!$A$1:$W$122,15,FALSE)","v":0},{"$f":"VLOOKUP($B$3,Hoja1!$A$1:$W$122,16,FALSE)","v":0},{"$f":"VLOOKUP($B$3,Hoja1!$A$1:$W$122,17,FALSE)","v":0},{"$f":"VLOOKUP($B$3,Hoja1!$A$1:$W$122,18,FALSE)","v":0},{"$f":"VLOOKUP($B$3,Hoja1!$A$1:$W$122,19,FALSE)","v":0},{"$f":"VLOOKUP($B$3,Hoja1!$A$1:$W$122,20,FALSE)","v":0},{"$f":"VLOOKUP($B$3,Hoja1!$A$1:$W$122,21,FALSE)","v":0},{"$f":"VLOOKUP($B$3,Hoja1!$A$1:$W$122,22,FALSE)","v":0},{"$f":"VLOOKUP($B$3,Hoja1!$A$1:$W$122,23,FALSE)","v":0}]
[null,null,null,{"$f":"D1","v":"R"},{"$f":"E1","v":"O"},"D",0,"S","T","E","W","A","R","T",0,0,0,0,0,0,0,0,0,0]
[null,1,null,{"$f":"D5","v":""},"","",0,"","","","","","","",null,{"$f":"P5","v":0},0,0,0,0,0,0,0,0]
[null,39,null,{"$f":"B1","v":"CANTANTE"},null,null,null,null,null,null,null,null,null,null,null,null,"aciertos",null,{"$f":"Hoja1!Y1/54","v":0}]
[null,null,null,{"$f":"IF($U$4=D2,D2,IF($V$4=D2,D2,IF($W$4=D2,D2,\"\")))","v":""},{"$f":"IF($U$4=E2,E2,IF($V$4=E2,E2,IF($W$4=E2,E2,\"\")))","v":""},"",0,"","","","","","","",0,0,0,0,0,0,0,0,0,0]
[]
[null,null,null,{"$f":"IF(B7=\"ROD STEWART\",1,0)","v":0},null,null,null,null,null,{"$f":"IF(F7=\"HARRISON FORD\",1,0)","v":0},null,null,null,null,null,{"$f":"IF(L7=\"NELSON MANDELA\",1,0)","v":0},null,null,null,null,null,{"$f":"IF(R7=\"STEVEN SPIELBERG\",1,0)","v":0}]
[null,1,null,null,null,2,null,null,null,null,null,3,null,null,null,null,null,4]
[]
[null,null,null,{"$f":"IF(B10=\"SAMANTHA\",1,0)","v":0},null,null,null,null,null,{"$f":"IF(F10=\"BATMAN\",1,0)","v":0},null,null,null,null,null,{"$f":"IF(L10=\"TORRES PETRONAS\",1,0)","v":0},null,null,null,null,null,{"$f":"IF(R10=\"BRAD PITT\",1,0)","v":0}]
[null,5,null,null,null,6,null,null,null,null,null,7,null,null,null,null,null,8]
[]
[null,null,null,{"$f":"IF(B13=\"LEONARDO DICAPRIO\",1,0)","v":0},null,null,null,null,null,{"$f":"IF(F13=\"ARCO DEL TRIUNFO\",1,0)","v":0},null,null,null,null,null,{"$f":"IF(L13=\"MARI POPPINS\",1,0)","v":0},null,null,null,null,null,{"$f":"IF(R13=\"KEVIN\",1,0)","v":0}]
[null,9,null,null,null,10,null,null,null,null,null,11,null,null,null,null,null,12]
[]
[null,null,null,{"$f":"IF(B16=\"CARLOS SANTANA\",1,0)","v":0},null,null,null,null,null,{"$f":"IF(F16=\"TOM HANKS\",1,0)","v":0},null,null,null,null,null,{"$f":"IF(L16=\"ADOLFO HITLER\",1,0)","v":0},null,null,null,null,null,{"$f":"IF(R16=\"EVA PERON\",1,0)","v":0}]
[null,13,null,null,null,14,null,null,null,null,null,15,null,null,null,null,null,16]
[]
[null,null,null,{"$f":"IF(B19=\"JOSE ORTEGA CANO\",1,0)","v":0},null,null,null,null,null,{"$f":"IF(F19=\"ELVIS PRESLEY\",1,0)","v":0},null,null,null,null,null,{"$f":"IF(L19=\"SOPHIA LOREN\",1,0)","v":0},null,null,null,null,null,{"$f":"IF(R19=\"EL PUMA\",1,0)","v":0}]
[null,17,null,null,null,18,null,null,null,null,null,19,null,null,null,null,null,20]
[]
[null,null,null,{"$f":"IF(B22=\"ISABEL PANTOJA\",1,0)","v":0},null,null,null,null,null,{"$f":"IF(F22=\"JOSELITO\",1,0)","v":0},null,null,null,null,null,{"$f":"IF(L22=\"ANA ROSA QUINTANA\",1,0)","v":0},null,null,null,null,null,{"$f":"IF(R22=\"MARIA TERESA CAMPOS\",1,0)","v":0}]
[null,21,null,null,null,22,null,null,null,null,null,23,null,null,null,null,null,24]
[]
[null,null,null,{"$f":"IF(B25=\"JORGE JAVIER VAZQUEZ\",1,0)","v":0},null,null,null,null,null,{"$f":"IF(F25=\"STING\",1,0)","v":0},null,null,null,null,null,{"$f":"IF(L25=\"MARIAH CAREY\",1,0)","v":0},null,null,null,null,null,{"$f":"IF(R25=\"MICHAEL JACKSON\",1,0)","v":0}]
[null,25,null,null,null,26,null,null,null,null,null,27,null,null,null,null,null,28]
[]
[null,null,null,{"$f":"IF(B28=\"BRUCE LEE\",1,0)","v":0},null,null,null,null,null,{"$f":"IF(F28=\"JACKIE CHAN\",1,0)","v":0},null,null,null,null,null,{"$f":"IF(L28=\"WILL SMITH\",1,0)","v":0},null,null,null,null,null,{"$f":"IF(R28=\"ANGELINA JOLIE\",1,0)","v":0}]
[null,29,null,null,null,30,null,null,null,null,null,31,null,null,null,null,null,32]
[]
[null,null,null,{"$f":"IF(B31=\"BRAD PITT\",1,0)","v":0},null,null,null,null,null,{"$f":"IF(F31=\"KEVIN COSTNER\",1,0)","v":0},null,null,null,null,null,{"$f":"IF(L31=\"PABLO PICASSO\",1,0)","v":0},null,null,null,null,null,{"$f":"IF(R31=\"ALBERT EINSTEIN\",1,0)","v":0}]
[null,33,null,null,null,34,null,null,null,null,null,35,null,null,null,null,null,36]
[]
[null,null,null,{"$f":"IF(B34=\"Oscar Martinez\",1,0)","v":0},null,null,null,null,null,{"$f":"IF(F34=\"Joaquin PratS\",1,0)","v":0},null,null,null,null,null,{"$f":"IF(L34=\"Letizia Ortiz\",1,0)","v":0},null,null,null,null,null,{"$f":"IF(R34=\"Matias Prats\",1,0)","v":0}]
[null,37,null,null,null,38,null,null,null,null,null,39,null,null,null,null,null,40]
[]
[null,null,null,{"$f":"IF(B37=\"Johan Cruyff\",1,0)","v":0},null,null,null,null,null,{"$f":"IF(F37=\"Gregory Peck\",1,0)","v":0},null,null,null,null,null,{"$f":"IF(L37=\"Kirk Douglas\",1,0)","v":0},null,null,null,null,null,{"$f":"IF(R37=\"Raphael\",1,0)","v":0}]
[null,41,null,null,null,42,null,null,null,null,null,43,null,null,null,null,null,44]
[]
[null,null,null,{"$f":"IF(B40=\"Fidel Castro\",1,0)","v":0},null,null,null,null,null,{"$f":"IF(F40=\"Constantino Romero\",1,0)","v":0},null,null,null,null,null,{"$f":"IF(L40=\"Zapatero\",1,0)","v":0},null,null,null,null,null,{"$f":"IF(R40=\"Felipe Gonzalez\",1,0)","v":0}]
[null,45,null,null,null,46,null,null,null,null,null,47,null,null,null,null,null,48]
[]
[null,null,null,{"$f":"IF(B43=\"Jose Maria Aznar\",1,0)","v":0},null,null,null,null,null,{"$f":"IF(F43=\"Adolfo Suarez\",1,0)","v":0},null,null,null,null,null,{"$f":"IF(K43=\"Leopoldo Calvo Sotelo\",1,0)","v":0},null,null,null,null,null,{"$f":"IF(R43=\"Miguel Rios\",1,0)","v":0}]
[null,49,null,null,null,50,null,null,null,null,51,null,null,null,null,null,null,52]
[]
[null,null,null,{"$f":"IF(B46=\"Teresa de Calcuta\",1,0)","v":0},null,null,null,null,null,{"$f":"IF(F46=\"gento\",1,0)","v":0}]
[null,53,null,null,null,54,null,null,null,null,null,55,null,null,null,null,null,56]